BEGIN:VCALENDAR
VERSION:2.0
PRODID:-//PEAK and Early Learning - ECPv6.15.20//NONSGML v1.0//EN
CALSCALE:GREGORIAN
METHOD:PUBLISH
X-WR-CALNAME:PEAK and Early Learning
X-ORIGINAL-URL:https://peakandearlylearning.helenaschools.org
X-WR-CALDESC:Events for PEAK and Early Learning
REFRESH-INTERVAL;VALUE=DURATION:PT1H
X-Robots-Tag:noindex
X-PUBLISHED-TTL:PT1H
BEGIN:VTIMEZONE
TZID:America/Denver
BEGIN:DAYLIGHT
TZOFFSETFROM:-0700
TZOFFSETTO:-0600
TZNAME:MDT
DTSTART:20200308T090000
END:DAYLIGHT
BEGIN:STANDARD
TZOFFSETFROM:-0600
TZOFFSETTO:-0700
TZNAME:MST
DTSTART:20201101T080000
END:STANDARD
BEGIN:DAYLIGHT
TZOFFSETFROM:-0700
TZOFFSETTO:-0600
TZNAME:MDT
DTSTART:20210314T090000
END:DAYLIGHT
BEGIN:STANDARD
TZOFFSETFROM:-0600
TZOFFSETTO:-0700
TZNAME:MST
DTSTART:20211107T080000
END:STANDARD
BEGIN:DAYLIGHT
TZOFFSETFROM:-0700
TZOFFSETTO:-0600
TZNAME:MDT
DTSTART:20220313T090000
END:DAYLIGHT
BEGIN:STANDARD
TZOFFSETFROM:-0600
TZOFFSETTO:-0700
TZNAME:MST
DTSTART:20221106T080000
END:STANDARD
BEGIN:DAYLIGHT
TZOFFSETFROM:-0700
TZOFFSETTO:-0600
TZNAME:MDT
DTSTART:20230312T090000
END:DAYLIGHT
BEGIN:STANDARD
TZOFFSETFROM:-0600
TZOFFSETTO:-0700
TZNAME:MST
DTSTART:20231105T080000
END:STANDARD
BEGIN:DAYLIGHT
TZOFFSETFROM:-0700
TZOFFSETTO:-0600
TZNAME:MDT
DTSTART:20240310T090000
END:DAYLIGHT
BEGIN:STANDARD
TZOFFSETFROM:-0600
TZOFFSETTO:-0700
TZNAME:MST
DTSTART:20241103T080000
END:STANDARD
BEGIN:DAYLIGHT
TZOFFSETFROM:-0700
TZOFFSETTO:-0600
TZNAME:MDT
DTSTART:20250309T090000
END:DAYLIGHT
BEGIN:STANDARD
TZOFFSETFROM:-0600
TZOFFSETTO:-0700
TZNAME:MST
DTSTART:20251102T080000
END:STANDARD
END:VTIMEZONE
BEGIN:VEVENT
DTSTART;TZID=America/Denver:20240402T120000
DTEND;TZID=America/Denver:20240402T130000
DTSTAMP:20260424T043625
CREATED:20240322T122950Z
LAST-MODIFIED:20240402T104557Z
UID:23752-1712059200-1712062800@peakandearlylearning.helenaschools.org
SUMMARY:Policy Committee Meeting 4.2.24
DESCRIPTION:
URL:https://peakandearlylearning.helenaschools.org/event/policy-committee-meeting-4-2-24/
LOCATION:Lincoln Center\, 1325 Poplar St\, Helena\, MT\, 59601\, United States
CATEGORIES:Board of Trustees Meeting,District Schedule,Policy Committee
ORGANIZER;CN="Board of Trustees":MAILTO:boardoftrustees@helenaschools.org
END:VEVENT
BEGIN:VEVENT
DTSTART;TZID=America/Denver:20240206T120000
DTEND;TZID=America/Denver:20240206T130000
DTSTAMP:20260424T043625
CREATED:20240115T094740Z
LAST-MODIFIED:20240206T235325Z
UID:23637-1707220800-1707224400@peakandearlylearning.helenaschools.org
SUMMARY:Policy Committee Meeting 02.06.24
DESCRIPTION:
URL:https://peakandearlylearning.helenaschools.org/event/policy-committee-meeting-02-06-24/
LOCATION:Lincoln Center\, 1325 Poplar St\, Helena\, MT\, 59601\, United States
CATEGORIES:Board of Trustees Meeting,District Schedule,Policy Committee
ORGANIZER;CN="Board of Trustees":MAILTO:boardoftrustees@helenaschools.org
END:VEVENT
BEGIN:VEVENT
DTSTART;TZID=America/Denver:20240102T120000
DTEND;TZID=America/Denver:20240102T130000
DTSTAMP:20260424T043625
CREATED:20231217T101115Z
LAST-MODIFIED:20240102T103441Z
UID:23605-1704196800-1704200400@peakandearlylearning.helenaschools.org
SUMMARY:Policy Committee Meeting 01.02.24
DESCRIPTION:
URL:https://peakandearlylearning.helenaschools.org/event/policy-committee-meeting-01-02-24/
LOCATION:Lincoln Center\, 1325 Poplar St\, Helena\, MT\, 59601\, United States
CATEGORIES:Board of Trustees Meeting,District Schedule,Policy Committee
ORGANIZER;CN="Board of Trustees":MAILTO:boardoftrustees@helenaschools.org
END:VEVENT
BEGIN:VEVENT
DTSTART;TZID=America/Denver:20231205T120000
DTEND;TZID=America/Denver:20231205T130000
DTSTAMP:20260424T043625
CREATED:20231124T191459Z
LAST-MODIFIED:20231204T131127Z
UID:23581-1701777600-1701781200@peakandearlylearning.helenaschools.org
SUMMARY:Policy Committee Meeting 12.05.23
DESCRIPTION:
URL:https://peakandearlylearning.helenaschools.org/event/policy-committee-meeting-12-05-23/
LOCATION:Lincoln Center\, 1325 Poplar St\, Helena\, MT\, 59601\, United States
CATEGORIES:Board of Trustees Meeting,District Schedule,Policy Committee
ORGANIZER;CN="Board of Trustees":MAILTO:boardoftrustees@helenaschools.org
END:VEVENT
BEGIN:VEVENT
DTSTART;TZID=America/Denver:20231107T120000
DTEND;TZID=America/Denver:20231107T130000
DTSTAMP:20260424T043625
CREATED:20231020T225554Z
LAST-MODIFIED:20231107T160405Z
UID:23547-1699358400-1699362000@peakandearlylearning.helenaschools.org
SUMMARY:Policy Committee Meeting 11.07.23
DESCRIPTION:
URL:https://peakandearlylearning.helenaschools.org/event/policy-committee-meeting-11-07-23/
LOCATION:Lincoln Center\, 1325 Poplar St\, Helena\, MT\, 59601\, United States
CATEGORIES:Board of Trustees Meeting,District Schedule,Policy Committee
ORGANIZER;CN="Board of Trustees":MAILTO:boardoftrustees@helenaschools.org
END:VEVENT
BEGIN:VEVENT
DTSTART;TZID=America/Denver:20221101T120000
DTEND;TZID=America/Denver:20221101T130000
DTSTAMP:20260424T043625
CREATED:20221011T143609Z
LAST-MODIFIED:20221101T182851Z
UID:23400-1667304000-1667307600@peakandearlylearning.helenaschools.org
SUMMARY:Policy Committee Meeting 11.01.22
DESCRIPTION:
URL:https://peakandearlylearning.helenaschools.org/event/policy-committee-meeting-11-01-22/
LOCATION:Lincoln Center\, 1325 Poplar St\, Helena\, MT\, 59601\, United States
CATEGORIES:Board of Trustees Meeting,District Schedule,Policy Committee
ORGANIZER;CN="Board of Trustees":MAILTO:boardoftrustees@helenaschools.org
END:VEVENT
BEGIN:VEVENT
DTSTART;TZID=America/Denver:20221004T120000
DTEND;TZID=America/Denver:20221004T130000
DTSTAMP:20260424T043625
CREATED:20220902T223611Z
LAST-MODIFIED:20221004T123412Z
UID:23345-1664884800-1664888400@peakandearlylearning.helenaschools.org
SUMMARY:Policy Committee Meeting 10.04.22
DESCRIPTION:
URL:https://peakandearlylearning.helenaschools.org/event/policy-committee-meeting-10-04-22/
LOCATION:Lincoln Center\, 1325 Poplar St\, Helena\, MT\, 59601\, United States
CATEGORIES:Board of Trustees Meeting,District Schedule,Policy Committee
ORGANIZER;CN="Board of Trustees":MAILTO:boardoftrustees@helenaschools.org
END:VEVENT
BEGIN:VEVENT
DTSTART;TZID=America/Denver:20220301T120000
DTEND;TZID=America/Denver:20220301T130000
DTSTAMP:20260424T043625
CREATED:20220217T121455Z
LAST-MODIFIED:20220301T141848Z
UID:23092-1646136000-1646139600@peakandearlylearning.helenaschools.org
SUMMARY:Policy Committee Meeting 03.01.22
DESCRIPTION:
URL:https://peakandearlylearning.helenaschools.org/event/policy-committee-meeting-03-01-22/
LOCATION:Lincoln Center\, 1325 Poplar St\, Helena\, MT\, 59601\, United States
CATEGORIES:Board of Trustees Meeting,District Schedule,Policy Committee
ORGANIZER;CN="Board of Trustees":MAILTO:boardoftrustees@helenaschools.org
END:VEVENT
BEGIN:VEVENT
DTSTART;TZID=America/Denver:20220201T120000
DTEND;TZID=America/Denver:20220201T130000
DTSTAMP:20260424T043625
CREATED:20220108T111003Z
LAST-MODIFIED:20220201T222017Z
UID:23036-1643716800-1643720400@peakandearlylearning.helenaschools.org
SUMMARY:Policy Committee Meeting 02.01.22
DESCRIPTION:
URL:https://peakandearlylearning.helenaschools.org/event/policy-committee-meeting-02-01-22/
LOCATION:Lincoln Center\, 1325 Poplar St\, Helena\, MT\, 59601\, United States
CATEGORIES:Board of Trustees Meeting,District Schedule,Policy Committee
ORGANIZER;CN="Board of Trustees":MAILTO:boardoftrustees@helenaschools.org
END:VEVENT
BEGIN:VEVENT
DTSTART;TZID=America/Denver:20220104T120000
DTEND;TZID=America/Denver:20220104T130000
DTSTAMP:20260424T043625
CREATED:20211209T113600Z
LAST-MODIFIED:20220103T233822Z
UID:22994-1641297600-1641301200@peakandearlylearning.helenaschools.org
SUMMARY:Policy Committee Meeting 01.04.22
DESCRIPTION:
URL:https://peakandearlylearning.helenaschools.org/event/policy-committee-meeting-01-04-22/
LOCATION:Lincoln Center\, 1325 Poplar St\, Helena\, MT\, 59601\, United States
CATEGORIES:Board of Trustees Meeting,Policy Committee
ORGANIZER;CN="Board of Trustees":MAILTO:boardoftrustees@helenaschools.org
END:VEVENT
BEGIN:VEVENT
DTSTART;TZID=America/Denver:20211207T120000
DTEND;TZID=America/Denver:20211207T130000
DTSTAMP:20260424T043625
CREATED:20211104T220436Z
LAST-MODIFIED:20211207T110126Z
UID:22928-1638878400-1638882000@peakandearlylearning.helenaschools.org
SUMMARY:Policy Committee Meeting 12.07.21
DESCRIPTION:Microsoft Teams meeting \n\n\n\nJoin on your computer or mobile app  \n\nClick here to join the meeting
URL:https://peakandearlylearning.helenaschools.org/event/policy-committee-meeting-12-07-21/
LOCATION:MT
CATEGORIES:Board of Trustees Meeting,Policy Committee
ORGANIZER;CN="Board of Trustees":MAILTO:boardoftrustees@helenaschools.org
END:VEVENT
BEGIN:VEVENT
DTSTART;TZID=America/Denver:20211102T120000
DTEND;TZID=America/Denver:20211102T130000
DTSTAMP:20260424T043625
CREATED:20210929T063013Z
LAST-MODIFIED:20211102T203737Z
UID:22874-1635854400-1635858000@peakandearlylearning.helenaschools.org
SUMMARY:Policy Committee Meeting 11.02.21
DESCRIPTION:
URL:https://peakandearlylearning.helenaschools.org/event/policy-committee-meeting-11-02-21/
LOCATION:May Butler Center\, 55 S Rodney Street\, Helena\, MT\, 59601\, United States
CATEGORIES:Board of Trustees Meeting,Policy Committee
ORGANIZER;CN="Board of Trustees":MAILTO:boardoftrustees@helenaschools.org
END:VEVENT
BEGIN:VEVENT
DTSTART;TZID=America/Denver:20211005T120000
DTEND;TZID=America/Denver:20211005T130000
DTSTAMP:20260424T043625
CREATED:20210922T051647Z
LAST-MODIFIED:20211005T080412Z
UID:22854-1633435200-1633438800@peakandearlylearning.helenaschools.org
SUMMARY:Policy Committee Meeting 10.05.21
DESCRIPTION:
URL:https://peakandearlylearning.helenaschools.org/event/policy-committee-meeting-10-05-21/
LOCATION:May Butler Center\, 55 S Rodney Street\, Helena\, MT\, 59601\, United States
CATEGORIES:Board of Trustees Meeting,Policy Committee
ORGANIZER;CN="Board of Trustees":MAILTO:boardoftrustees@helenaschools.org
END:VEVENT
BEGIN:VEVENT
DTSTART;TZID=America/Denver:20210907T120000
DTEND;TZID=America/Denver:20210907T130000
DTSTAMP:20260424T043625
CREATED:20210819T154328Z
LAST-MODIFIED:20210906T233716Z
UID:22775-1631016000-1631019600@peakandearlylearning.helenaschools.org
SUMMARY:Policy Committee Meeting 09.07.21
DESCRIPTION:
URL:https://peakandearlylearning.helenaschools.org/event/policy-committee-meeting-09-07-21/
LOCATION:May Butler Center\, 55 S Rodney Street\, Helena\, MT\, 59601\, United States
CATEGORIES:Board of Trustees Meeting,Policy Committee
ORGANIZER;CN="Board of Trustees":MAILTO:boardoftrustees@helenaschools.org
END:VEVENT
BEGIN:VEVENT
DTSTART;TZID=America/Denver:20210504T120000
DTEND;TZID=America/Denver:20210504T130000
DTSTAMP:20260424T043625
CREATED:20210427T120349Z
LAST-MODIFIED:20210504T124732Z
UID:22625-1620129600-1620133200@peakandearlylearning.helenaschools.org
SUMMARY:Board of Trustees Policy Committee Meeting – 05.04.2021
DESCRIPTION:
URL:https://peakandearlylearning.helenaschools.org/event/board-of-trustees-policy-committee-meeting-05-04-2021/
LOCATION:May Butler Center\, 55 S Rodney Street\, Helena\, MT\, 59601\, United States
CATEGORIES:Board of Trustees Meeting,District Schedule,Policy Committee
ORGANIZER;CN="Board of Trustees":MAILTO:boardoftrustees@helenaschools.org
END:VEVENT
BEGIN:VEVENT
DTSTART;TZID=America/Denver:20210406T120000
DTEND;TZID=America/Denver:20210406T130000
DTSTAMP:20260424T043625
CREATED:20210403T081532Z
LAST-MODIFIED:20210406T091212Z
UID:22578-1617710400-1617714000@peakandearlylearning.helenaschools.org
SUMMARY:Board of Trustees Policy Committee Meeting – 04.06.2021
DESCRIPTION:
URL:https://peakandearlylearning.helenaschools.org/event/board-of-trustees-policy-committee-meeting-04-06-2021/
LOCATION:May Butler Center\, 55 S Rodney Street\, Helena\, MT\, 59601\, United States
CATEGORIES:Board of Trustees Meeting,District Schedule,Policy Committee
ORGANIZER;CN="Board of Trustees":MAILTO:boardoftrustees@helenaschools.org
END:VEVENT
BEGIN:VEVENT
DTSTART;TZID=America/Denver:20210302T120000
DTEND;TZID=America/Denver:20210302T130000
DTSTAMP:20260424T043625
CREATED:20210226T061135Z
LAST-MODIFIED:20210302T091825Z
UID:22507-1614686400-1614690000@peakandearlylearning.helenaschools.org
SUMMARY:Board of Trustees Policy Committee Meeting – 03.02.2021
DESCRIPTION:
URL:https://peakandearlylearning.helenaschools.org/event/board-of-trustees-policy-committee-meeting-03-02-2021/
LOCATION:May Butler Center\, 55 S Rodney Street\, Helena\, MT\, 59601\, United States
CATEGORIES:Board of Trustees Meeting,District Schedule,Policy Committee
ORGANIZER;CN="Board of Trustees":MAILTO:boardoftrustees@helenaschools.org
END:VEVENT
BEGIN:VEVENT
DTSTART;TZID=America/Denver:20210202T120000
DTEND;TZID=America/Denver:20210202T133000
DTSTAMP:20260424T043625
CREATED:20210129T181428Z
LAST-MODIFIED:20210202T000128Z
UID:22421-1612267200-1612272600@peakandearlylearning.helenaschools.org
SUMMARY:Board of Trustees Policy Committee Meeting – 02.02.2021
DESCRIPTION:
URL:https://peakandearlylearning.helenaschools.org/event/board-of-trustees-policy-committee-meeting-02-02-2021/
LOCATION:May Butler Center\, 55 S Rodney Street\, Helena\, MT\, 59601\, United States
CATEGORIES:Board of Trustees Meeting,District Schedule,Policy Committee
ORGANIZER;CN="Board of Trustees":MAILTO:boardoftrustees@helenaschools.org
END:VEVENT
END:VCALENDAR