BEGIN:VCALENDAR
VERSION:2.0
PRODID:-//PEAK and Early Learning - ECPv6.15.20//NONSGML v1.0//EN
CALSCALE:GREGORIAN
METHOD:PUBLISH
X-ORIGINAL-URL:https://peakandearlylearning.helenaschools.org
X-WR-CALDESC:Events for PEAK and Early Learning
REFRESH-INTERVAL;VALUE=DURATION:PT1H
X-Robots-Tag:noindex
X-PUBLISHED-TTL:PT1H
BEGIN:VTIMEZONE
TZID:America/Denver
BEGIN:DAYLIGHT
TZOFFSETFROM:-0700
TZOFFSETTO:-0600
TZNAME:MDT
DTSTART:20200308T090000
END:DAYLIGHT
BEGIN:STANDARD
TZOFFSETFROM:-0600
TZOFFSETTO:-0700
TZNAME:MST
DTSTART:20201101T080000
END:STANDARD
BEGIN:DAYLIGHT
TZOFFSETFROM:-0700
TZOFFSETTO:-0600
TZNAME:MDT
DTSTART:20210314T090000
END:DAYLIGHT
BEGIN:STANDARD
TZOFFSETFROM:-0600
TZOFFSETTO:-0700
TZNAME:MST
DTSTART:20211107T080000
END:STANDARD
BEGIN:DAYLIGHT
TZOFFSETFROM:-0700
TZOFFSETTO:-0600
TZNAME:MDT
DTSTART:20220313T090000
END:DAYLIGHT
BEGIN:STANDARD
TZOFFSETFROM:-0600
TZOFFSETTO:-0700
TZNAME:MST
DTSTART:20221106T080000
END:STANDARD
BEGIN:DAYLIGHT
TZOFFSETFROM:-0700
TZOFFSETTO:-0600
TZNAME:MDT
DTSTART:20230312T090000
END:DAYLIGHT
BEGIN:STANDARD
TZOFFSETFROM:-0600
TZOFFSETTO:-0700
TZNAME:MST
DTSTART:20231105T080000
END:STANDARD
BEGIN:DAYLIGHT
TZOFFSETFROM:-0700
TZOFFSETTO:-0600
TZNAME:MDT
DTSTART:20240310T090000
END:DAYLIGHT
BEGIN:STANDARD
TZOFFSETFROM:-0600
TZOFFSETTO:-0700
TZNAME:MST
DTSTART:20241103T080000
END:STANDARD
BEGIN:DAYLIGHT
TZOFFSETFROM:-0700
TZOFFSETTO:-0600
TZNAME:MDT
DTSTART:20250309T090000
END:DAYLIGHT
BEGIN:STANDARD
TZOFFSETFROM:-0600
TZOFFSETTO:-0700
TZNAME:MST
DTSTART:20251102T080000
END:STANDARD
END:VTIMEZONE
BEGIN:VEVENT
DTSTART;TZID=America/Denver:20240501T120000
DTEND;TZID=America/Denver:20240501T130000
DTSTAMP:20260419T220849
CREATED:20240422T143017Z
LAST-MODIFIED:20240501T195552Z
UID:23783-1714564800-1714568400@peakandearlylearning.helenaschools.org
SUMMARY:Teaching and Learning Committee Meeting-May 1st\, 2024
DESCRIPTION:
URL:https://peakandearlylearning.helenaschools.org/event/teaching-and-learning-committee-meeting-may-1st-2024/
LOCATION:Lincoln Center\, 1325 Poplar St\, Helena\, MT\, 59601\, United States
CATEGORIES:Board of Trustees Meeting,District Schedule,Teaching and Learning Committee
ORGANIZER;CN="Board of Trustees":MAILTO:boardoftrustees@helenaschools.org
END:VEVENT
BEGIN:VEVENT
DTSTART;TZID=America/Denver:20240306T120000
DTEND;TZID=America/Denver:20240306T130000
DTSTAMP:20260419T220849
CREATED:20240229T233730Z
LAST-MODIFIED:20240306T153305Z
UID:23687-1709726400-1709730000@peakandearlylearning.helenaschools.org
SUMMARY:Teaching and Learning Committee Meeting 03.06.24
DESCRIPTION:
URL:https://peakandearlylearning.helenaschools.org/event/teaching-and-learning-committee-meeting-03-06-24/
LOCATION:Lincoln Center\, 1325 Poplar St\, Helena\, MT\, 59601\, United States
CATEGORIES:Board of Trustees Meeting,District Schedule,Teaching and Learning Committee
ORGANIZER;CN="Board of Trustees":MAILTO:boardoftrustees@helenaschools.org
END:VEVENT
BEGIN:VEVENT
DTSTART;TZID=America/Denver:20240207T120000
DTEND;TZID=America/Denver:20240207T130000
DTSTAMP:20260419T220849
CREATED:20240115T094740Z
LAST-MODIFIED:20240206T235325Z
UID:23638-1707307200-1707310800@peakandearlylearning.helenaschools.org
SUMMARY:Teaching & Learning Committee Meeting 02.07.24
DESCRIPTION:
URL:https://peakandearlylearning.helenaschools.org/event/teaching-learning-committee-meeting-02-07-24/
LOCATION:Lincoln Center\, 1325 Poplar St\, Helena\, MT\, 59601\, United States
CATEGORIES:Board of Trustees Meeting,District Schedule,Teaching and Learning Committee
END:VEVENT
BEGIN:VEVENT
DTSTART;TZID=America/Denver:20240103T120000
DTEND;TZID=America/Denver:20240103T130000
DTSTAMP:20260419T220849
CREATED:20231217T101116Z
LAST-MODIFIED:20240103T191031Z
UID:23606-1704283200-1704286800@peakandearlylearning.helenaschools.org
SUMMARY:Teaching & Learning Committee Meeting 01.03.24
DESCRIPTION:
URL:https://peakandearlylearning.helenaschools.org/event/teaching-learning-committee-meeting-01-03-24/
LOCATION:Lincoln Center\, 1325 Poplar St\, Helena\, MT\, 59601\, United States
CATEGORIES:Board of Trustees Meeting,District Schedule,Teaching and Learning Committee
ORGANIZER;CN="Board of Trustees":MAILTO:boardoftrustees@helenaschools.org
END:VEVENT
BEGIN:VEVENT
DTSTART;TZID=America/Denver:20231206T120000
DTEND;TZID=America/Denver:20231206T130000
DTSTAMP:20260419T220849
CREATED:20231124T191459Z
LAST-MODIFIED:20231204T131128Z
UID:23582-1701864000-1701867600@peakandearlylearning.helenaschools.org
SUMMARY:Teaching and Learning Committee Meeting 12.06.23
DESCRIPTION:
URL:https://peakandearlylearning.helenaschools.org/event/teaching-and-learning-committee-meeting-12-06-23/
LOCATION:Lincoln Center\, 1325 Poplar St\, Helena\, MT\, 59601\, United States
CATEGORIES:Board of Trustees Meeting,District Schedule,Teaching and Learning Committee
ORGANIZER;CN="Board of Trustees":MAILTO:boardoftrustees@helenaschools.org
END:VEVENT
BEGIN:VEVENT
DTSTART;TZID=America/Denver:20231101T120000
DTEND;TZID=America/Denver:20231101T130000
DTSTAMP:20260419T220849
CREATED:20231020T225554Z
LAST-MODIFIED:20231031T180832Z
UID:23545-1698840000-1698843600@peakandearlylearning.helenaschools.org
SUMMARY:Teaching and Learning Committee Meeting 11.01.23
DESCRIPTION:
URL:https://peakandearlylearning.helenaschools.org/event/teaching-and-learning-committee-meeting-11-01-23/
LOCATION:Lincoln Center\, 1325 Poplar St\, Helena\, MT\, 59601\, United States
CATEGORIES:Board of Trustees Meeting,District Schedule,Teaching and Learning Committee
ORGANIZER;CN="Board of Trustees":MAILTO:boardoftrustees@helenaschools.org
END:VEVENT
BEGIN:VEVENT
DTSTART;TZID=America/Denver:20221207T120000
DTEND;TZID=America/Denver:20221207T130000
DTSTAMP:20260419T220849
CREATED:20221115T201941Z
LAST-MODIFIED:20221207T105107Z
UID:23454-1670414400-1670418000@peakandearlylearning.helenaschools.org
SUMMARY:Teaching & Learning Committee Meeting 12.07.22
DESCRIPTION:
URL:https://peakandearlylearning.helenaschools.org/event/teaching-learning-committee-meeting-12-07-22/
LOCATION:Lincoln Center\, 1325 Poplar St\, Helena\, MT\, 59601\, United States
CATEGORIES:Board of Trustees Meeting,District Schedule,Teaching and Learning Committee
ORGANIZER;CN="Board of Trustees":MAILTO:boardoftrustees@helenaschools.org
END:VEVENT
BEGIN:VEVENT
DTSTART;TZID=America/Denver:20221102T120000
DTEND;TZID=America/Denver:20221102T130000
DTSTAMP:20260419T220849
CREATED:20221011T143609Z
LAST-MODIFIED:20221102T185013Z
UID:23401-1667390400-1667394000@peakandearlylearning.helenaschools.org
SUMMARY:Teaching and Learning Committee Meeting 11.02.22
DESCRIPTION:
URL:https://peakandearlylearning.helenaschools.org/event/teaching-and-learning-committee-meeting-11-02-22/
LOCATION:Lincoln Center\, 1325 Poplar St\, Helena\, MT\, 59601\, United States
CATEGORIES:Board of Trustees Meeting,District Schedule,Teaching and Learning Committee
ORGANIZER;CN="Board of Trustees":MAILTO:boardoftrustees@helenaschools.org
END:VEVENT
BEGIN:VEVENT
DTSTART;TZID=America/Denver:20221005T120000
DTEND;TZID=America/Denver:20221005T130000
DTSTAMP:20260419T220849
CREATED:20220902T223611Z
LAST-MODIFIED:20221005T125040Z
UID:23346-1664971200-1664974800@peakandearlylearning.helenaschools.org
SUMMARY:Teaching & Learning Committee Meeting 10.05.22
DESCRIPTION:
URL:https://peakandearlylearning.helenaschools.org/event/teaching-learning-committee-meeting-10-05-22/
LOCATION:Lincoln Center\, 1325 Poplar St\, Helena\, MT\, 59601\, United States
CATEGORIES:Board of Trustees Meeting,District Schedule,Teaching and Learning Committee
ORGANIZER;CN="Board of Trustees":MAILTO:boardoftrustees@helenaschools.org
END:VEVENT
BEGIN:VEVENT
DTSTART;TZID=America/Denver:20220302T120000
DTEND;TZID=America/Denver:20220302T130000
DTSTAMP:20260419T220849
CREATED:20220217T121455Z
LAST-MODIFIED:20220302T141611Z
UID:23093-1646222400-1646226000@peakandearlylearning.helenaschools.org
SUMMARY:Teaching and Learning Committee Meeting 03.02.22
DESCRIPTION:Microsoft Teams meeting \nJoin on your computer or mobile app \nClick here to join the meeting \nOr call in (audio only) \n+1 406-272-9506\,\,182718186#   United States\, Billings \n(866) 790-3305\,\,182718186#   United States (Toll-free) \nPhone Conference ID: 182 718 186#
URL:https://peakandearlylearning.helenaschools.org/event/teaching-and-learning-committee-meeting-03-02-22/
LOCATION:Lincoln Center\, 1325 Poplar St\, Helena\, MT\, 59601\, United States
CATEGORIES:Board of Trustees Meeting,District Schedule,Teaching and Learning Committee
ORGANIZER;CN="Board of Trustees":MAILTO:boardoftrustees@helenaschools.org
END:VEVENT
BEGIN:VEVENT
DTSTART;TZID=America/Denver:20220202T120000
DTEND;TZID=America/Denver:20220202T130000
DTSTAMP:20260419T220849
CREATED:20220108T111003Z
LAST-MODIFIED:20220202T223727Z
UID:23037-1643803200-1643806800@peakandearlylearning.helenaschools.org
SUMMARY:Teaching and Learning Committee Meeting 02.02.22
DESCRIPTION:
URL:https://peakandearlylearning.helenaschools.org/event/teaching-and-learning-committee-meeting-02-02-22/
LOCATION:Lincoln Center\, 1325 Poplar St\, Helena\, MT\, 59601\, United States
CATEGORIES:Board of Trustees Meeting,District Schedule,Teaching and Learning Committee
ORGANIZER;CN="Board of Trustees":MAILTO:boardoftrustees@helenaschools.org
END:VEVENT
BEGIN:VEVENT
DTSTART;TZID=America/Denver:20220112T120000
DTEND;TZID=America/Denver:20220112T130000
DTSTAMP:20260419T220849
CREATED:20211209T113600Z
LAST-MODIFIED:20220112T130929Z
UID:22995-1641988800-1641992400@peakandearlylearning.helenaschools.org
SUMMARY:Teaching & Learning Committee Meeting 01.12.22
DESCRIPTION:
URL:https://peakandearlylearning.helenaschools.org/event/teaching-learning-committee-meeting-01-05-22/
LOCATION:Lincoln Center\, 1325 Poplar St\, Helena\, MT\, 59601\, United States
CATEGORIES:Board of Trustees Meeting,Teaching and Learning Committee
ORGANIZER;CN="Board of Trustees":MAILTO:boardoftrustees@helenaschools.org
END:VEVENT
BEGIN:VEVENT
DTSTART;TZID=America/Denver:20211201T120000
DTEND;TZID=America/Denver:20211201T130000
DTSTAMP:20260419T220849
CREATED:20211104T220435Z
LAST-MODIFIED:20211201T232925Z
UID:22925-1638360000-1638363600@peakandearlylearning.helenaschools.org
SUMMARY:Teaching & Learning Committee 12.01.21
DESCRIPTION:Microsoft Teams meeting \n\n\n\nJoin on your computer or mobile app  \n\nClick here to join the meeting
URL:https://peakandearlylearning.helenaschools.org/event/teaching-learning-committee-12-01-21/
LOCATION:Lincoln Center\, 1325 Poplar St\, Helena\, MT\, 59601\, United States
CATEGORIES:Board of Trustees Meeting,Teaching and Learning Committee
ORGANIZER;CN="Board of Trustees":MAILTO:boardoftrustees@helenaschools.org
END:VEVENT
BEGIN:VEVENT
DTSTART;TZID=America/Denver:20211103T120000
DTEND;TZID=America/Denver:20211103T130000
DTSTAMP:20260419T220849
CREATED:20210929T063013Z
LAST-MODIFIED:20211103T210451Z
UID:22875-1635940800-1635944400@peakandearlylearning.helenaschools.org
SUMMARY:Teaching & Learning Committee Meeting 11.03.21
DESCRIPTION:
URL:https://peakandearlylearning.helenaschools.org/event/teaching-learning-committee-meeting-11-03-21/
LOCATION:May Butler Center\, 55 S Rodney Street\, Helena\, MT\, 59601\, United States
CATEGORIES:Board of Trustees Meeting,Teaching and Learning Committee
ORGANIZER;CN="Board of Trustees":MAILTO:boardoftrustees@helenaschools.org
END:VEVENT
BEGIN:VEVENT
DTSTART;TZID=America/Denver:20211006T120000
DTEND;TZID=America/Denver:20211006T130000
DTSTAMP:20260419T220849
CREATED:20210922T051647Z
LAST-MODIFIED:20211006T083845Z
UID:22855-1633521600-1633525200@peakandearlylearning.helenaschools.org
SUMMARY:Teaching and Learning Committee Meeting 10.06.21
DESCRIPTION:
URL:https://peakandearlylearning.helenaschools.org/event/teaching-and-learning-committee-meeting-10-06-21/
LOCATION:May Butler Center\, 55 S Rodney Street\, Helena\, MT\, 59601\, United States
CATEGORIES:Board of Trustees Meeting,Teaching and Learning Committee
ORGANIZER;CN="Board of Trustees":MAILTO:boardoftrustees@helenaschools.org
END:VEVENT
BEGIN:VEVENT
DTSTART;TZID=America/Denver:20210901T120000
DTEND;TZID=America/Denver:20210901T130000
DTSTAMP:20260419T220849
CREATED:20210819T154328Z
LAST-MODIFIED:20210901T220206Z
UID:22774-1630497600-1630501200@peakandearlylearning.helenaschools.org
SUMMARY:Teaching & Learning Committee Meeting 09.01.21
DESCRIPTION:
URL:https://peakandearlylearning.helenaschools.org/event/teaching-learning-committee-meeting-09-01-21/
LOCATION:May Butler Center\, 55 S Rodney Street\, Helena\, MT\, 59601\, United States
CATEGORIES:Board of Trustees Meeting,Teaching and Learning Committee
ORGANIZER;CN="Board of Trustees":MAILTO:boardoftrustees@helenaschools.org
END:VEVENT
BEGIN:VEVENT
DTSTART;TZID=America/Denver:20210505T120000
DTEND;TZID=America/Denver:20210505T130000
DTSTAMP:20260419T220849
CREATED:20210504T124731Z
LAST-MODIFIED:20210505T124843Z
UID:22640-1620216000-1620219600@peakandearlylearning.helenaschools.org
SUMMARY:Board of Trustees Teaching & Learning Committee Meeting – 05.05.2021
DESCRIPTION:
URL:https://peakandearlylearning.helenaschools.org/event/board-of-trustees-teaching-learning-committee-meeting-05-05-2021/
LOCATION:May Butler Center\, 55 S Rodney Street\, Helena\, MT\, 59601\, United States
CATEGORIES:Board of Trustees Meeting,District Schedule,Teaching and Learning Committee
ORGANIZER;CN="Board of Trustees":MAILTO:boardoftrustees@helenaschools.org
END:VEVENT
BEGIN:VEVENT
DTSTART;TZID=America/Denver:20210303T120000
DTEND;TZID=America/Denver:20210303T130000
DTSTAMP:20260419T220849
CREATED:20210226T061136Z
LAST-MODIFIED:20210303T122115Z
UID:22509-1614772800-1614776400@peakandearlylearning.helenaschools.org
SUMMARY:Board of Trustees Teaching & Learning Committee Meeting – 03.03.2021
DESCRIPTION:
URL:https://peakandearlylearning.helenaschools.org/event/board-of-trustees-teaching-learning-committee-meeting-03-03-2021/
LOCATION:May Butler Center\, 55 S Rodney Street\, Helena\, MT\, 59601\, United States
CATEGORIES:Board of Trustees Meeting,District Schedule,Teaching and Learning Committee
ORGANIZER;CN="Board of Trustees":MAILTO:boardoftrustees@helenaschools.org
END:VEVENT
BEGIN:VEVENT
DTSTART;TZID=America/Denver:20210203T120000
DTEND;TZID=America/Denver:20210203T133000
DTSTAMP:20260419T220849
CREATED:20210202T000129Z
LAST-MODIFIED:20210203T005821Z
UID:22453-1612353600-1612359000@peakandearlylearning.helenaschools.org
SUMMARY:Board of Trustees Teaching & Learning Committee Meeting – 02.03.2021
DESCRIPTION:
URL:https://peakandearlylearning.helenaschools.org/event/board-of-trustees-teaching-learning-committee-meeting-02-03-2021/
LOCATION:May Butler Center\, 55 S Rodney Street\, Helena\, MT\, 59601\, United States
CATEGORIES:Board of Trustees Meeting,District Schedule,Teaching and Learning Committee
ORGANIZER;CN="Board of Trustees":MAILTO:boardoftrustees@helenaschools.org
END:VEVENT
END:VCALENDAR