BEGIN:VCALENDAR
VERSION:2.0
PRODID:-//PEAK and Early Learning - ECPv6.15.20//NONSGML v1.0//EN
CALSCALE:GREGORIAN
METHOD:PUBLISH
X-WR-CALNAME:PEAK and Early Learning
X-ORIGINAL-URL:https://peakandearlylearning.helenaschools.org
X-WR-CALDESC:Events for PEAK and Early Learning
REFRESH-INTERVAL;VALUE=DURATION:PT1H
X-Robots-Tag:noindex
X-PUBLISHED-TTL:PT1H
BEGIN:VTIMEZONE
TZID:America/Denver
BEGIN:DAYLIGHT
TZOFFSETFROM:-0700
TZOFFSETTO:-0600
TZNAME:MDT
DTSTART:20200308T090000
END:DAYLIGHT
BEGIN:STANDARD
TZOFFSETFROM:-0600
TZOFFSETTO:-0700
TZNAME:MST
DTSTART:20201101T080000
END:STANDARD
BEGIN:DAYLIGHT
TZOFFSETFROM:-0700
TZOFFSETTO:-0600
TZNAME:MDT
DTSTART:20210314T090000
END:DAYLIGHT
BEGIN:STANDARD
TZOFFSETFROM:-0600
TZOFFSETTO:-0700
TZNAME:MST
DTSTART:20211107T080000
END:STANDARD
BEGIN:DAYLIGHT
TZOFFSETFROM:-0700
TZOFFSETTO:-0600
TZNAME:MDT
DTSTART:20220313T090000
END:DAYLIGHT
BEGIN:STANDARD
TZOFFSETFROM:-0600
TZOFFSETTO:-0700
TZNAME:MST
DTSTART:20221106T080000
END:STANDARD
END:VTIMEZONE
BEGIN:VEVENT
DTSTART;TZID=America/Denver:20211109T110000
DTEND;TZID=America/Denver:20211109T120000
DTSTAMP:20260422T040309
CREATED:20210929T063014Z
LAST-MODIFIED:20211109T164229Z
UID:22877-1636455600-1636459200@peakandearlylearning.helenaschools.org
SUMMARY:Executive Committee Meeting 11.09.21
DESCRIPTION:
URL:https://peakandearlylearning.helenaschools.org/event/executive-committee-meeting-11-09-21/
LOCATION:May Butler Center\, 55 S Rodney Street\, Helena\, MT\, 59601\, United States
CATEGORIES:Board of Trustees Meeting,Executive Session
ORGANIZER;CN="Board of Trustees":MAILTO:boardoftrustees@helenaschools.org
END:VEVENT
BEGIN:VEVENT
DTSTART;TZID=America/Denver:20211105T120000
DTEND;TZID=America/Denver:20211105T130000
DTSTAMP:20260422T040309
CREATED:20210929T063014Z
LAST-MODIFIED:20211105T221027Z
UID:22876-1636113600-1636117200@peakandearlylearning.helenaschools.org
SUMMARY:Budget & Finance Committee Meeting 11.05.21
DESCRIPTION:
URL:https://peakandearlylearning.helenaschools.org/event/budget-finance-committee-meeting-11-05-21/
LOCATION:May Butler Center\, 55 S Rodney Street\, Helena\, MT\, 59601\, United States
CATEGORIES:Board of Trustees Meeting,Budget and Finance Committee
ORGANIZER;CN="Board of Trustees":MAILTO:boardoftrustees@helenaschools.org
END:VEVENT
BEGIN:VEVENT
DTSTART;TZID=America/Denver:20211103T120000
DTEND;TZID=America/Denver:20211103T130000
DTSTAMP:20260422T040309
CREATED:20210929T063013Z
LAST-MODIFIED:20211103T210451Z
UID:22875-1635940800-1635944400@peakandearlylearning.helenaschools.org
SUMMARY:Teaching & Learning Committee Meeting 11.03.21
DESCRIPTION:
URL:https://peakandearlylearning.helenaschools.org/event/teaching-learning-committee-meeting-11-03-21/
LOCATION:May Butler Center\, 55 S Rodney Street\, Helena\, MT\, 59601\, United States
CATEGORIES:Board of Trustees Meeting,Teaching and Learning Committee
ORGANIZER;CN="Board of Trustees":MAILTO:boardoftrustees@helenaschools.org
END:VEVENT
BEGIN:VEVENT
DTSTART;TZID=America/Denver:20211102T120000
DTEND;TZID=America/Denver:20211102T130000
DTSTAMP:20260422T040309
CREATED:20210929T063013Z
LAST-MODIFIED:20211102T203737Z
UID:22874-1635854400-1635858000@peakandearlylearning.helenaschools.org
SUMMARY:Policy Committee Meeting 11.02.21
DESCRIPTION:
URL:https://peakandearlylearning.helenaschools.org/event/policy-committee-meeting-11-02-21/
LOCATION:May Butler Center\, 55 S Rodney Street\, Helena\, MT\, 59601\, United States
CATEGORIES:Board of Trustees Meeting,Policy Committee
ORGANIZER;CN="Board of Trustees":MAILTO:boardoftrustees@helenaschools.org
END:VEVENT
BEGIN:VEVENT
DTSTART;TZID=America/Denver:20211101T120000
DTEND;TZID=America/Denver:20211101T130000
DTSTAMP:20260422T040309
CREATED:20210929T063013Z
LAST-MODIFIED:20211101T202633Z
UID:22873-1635768000-1635771600@peakandearlylearning.helenaschools.org
SUMMARY:Facilities & Maintenance Committee Meeting 11.01.21
DESCRIPTION:
URL:https://peakandearlylearning.helenaschools.org/event/facilities-maintenance-committee-meeting-11-01-21/
LOCATION:May Butler Center\, 55 S Rodney Street\, Helena\, MT\, 59601\, United States
CATEGORIES:Board of Trustees Meeting,Facilities and Maintenance Committee
ORGANIZER;CN="Board of Trustees":MAILTO:boardoftrustees@helenaschools.org
END:VEVENT
BEGIN:VEVENT
DTSTART;TZID=America/Denver:20211026T110000
DTEND;TZID=America/Denver:20211026T120000
DTSTAMP:20260422T040309
CREATED:20210922T051648Z
LAST-MODIFIED:20211026T192023Z
UID:22857-1635246000-1635249600@peakandearlylearning.helenaschools.org
SUMMARY:Executive Committee Meeting 10.26.21
DESCRIPTION:
URL:https://peakandearlylearning.helenaschools.org/event/executive-committee-meeting-10-26-21/
LOCATION:May Butler Center\, 55 S Rodney Street\, Helena\, MT\, 59601\, United States
CATEGORIES:Board of Trustees Meeting,Executive Session
ORGANIZER;CN="Board of Trustees":MAILTO:boardoftrustees@helenaschools.org
END:VEVENT
BEGIN:VEVENT
DTSTART;TZID=America/Denver:20211012T110000
DTEND;TZID=America/Denver:20211012T120000
DTSTAMP:20260422T040309
CREATED:20210922T051648Z
LAST-MODIFIED:20211012T161054Z
UID:22856-1634036400-1634040000@peakandearlylearning.helenaschools.org
SUMMARY:Executive Committee Meeting 10.12.21
DESCRIPTION:
URL:https://peakandearlylearning.helenaschools.org/event/executive-committee-meeting-10-12-21/
LOCATION:May Butler Center\, 55 S Rodney Street\, Helena\, MT\, 59601\, United States
CATEGORIES:Board of Trustees Meeting,Executive Session
ORGANIZER;CN="Board of Trustees":MAILTO:boardoftrustees@helenaschools.org
END:VEVENT
BEGIN:VEVENT
DTSTART;TZID=America/Denver:20211006T120000
DTEND;TZID=America/Denver:20211006T130000
DTSTAMP:20260422T040309
CREATED:20210922T051647Z
LAST-MODIFIED:20211006T083845Z
UID:22855-1633521600-1633525200@peakandearlylearning.helenaschools.org
SUMMARY:Teaching and Learning Committee Meeting 10.06.21
DESCRIPTION:
URL:https://peakandearlylearning.helenaschools.org/event/teaching-and-learning-committee-meeting-10-06-21/
LOCATION:May Butler Center\, 55 S Rodney Street\, Helena\, MT\, 59601\, United States
CATEGORIES:Board of Trustees Meeting,Teaching and Learning Committee
ORGANIZER;CN="Board of Trustees":MAILTO:boardoftrustees@helenaschools.org
END:VEVENT
BEGIN:VEVENT
DTSTART;TZID=America/Denver:20211005T120000
DTEND;TZID=America/Denver:20211005T130000
DTSTAMP:20260422T040309
CREATED:20210922T051647Z
LAST-MODIFIED:20211005T080412Z
UID:22854-1633435200-1633438800@peakandearlylearning.helenaschools.org
SUMMARY:Policy Committee Meeting 10.05.21
DESCRIPTION:
URL:https://peakandearlylearning.helenaschools.org/event/policy-committee-meeting-10-05-21/
LOCATION:May Butler Center\, 55 S Rodney Street\, Helena\, MT\, 59601\, United States
CATEGORIES:Board of Trustees Meeting,Policy Committee
ORGANIZER;CN="Board of Trustees":MAILTO:boardoftrustees@helenaschools.org
END:VEVENT
BEGIN:VEVENT
DTSTART;TZID=America/Denver:20211004T120000
DTEND;TZID=America/Denver:20211004T130000
DTSTAMP:20260422T040309
CREATED:20210922T051647Z
LAST-MODIFIED:20211004T075725Z
UID:22853-1633348800-1633352400@peakandearlylearning.helenaschools.org
SUMMARY:Facilities and Maintenance Committee Meeting 10.04.21
DESCRIPTION:
URL:https://peakandearlylearning.helenaschools.org/event/facilities-and-maintenance-committee-meeting-10-04-21/
LOCATION:May Butler Center\, 55 S Rodney Street\, Helena\, MT\, 59601\, United States
CATEGORIES:Board of Trustees Meeting,Facilities and Maintenance Committee
ORGANIZER;CN="Board of Trustees":MAILTO:boardoftrustees@helenaschools.org
END:VEVENT
BEGIN:VEVENT
DTSTART;TZID=America/Denver:20211001T120000
DTEND;TZID=America/Denver:20211001T130000
DTSTAMP:20260422T040309
CREATED:20210922T051647Z
LAST-MODIFIED:20211001T071135Z
UID:22852-1633089600-1633093200@peakandearlylearning.helenaschools.org
SUMMARY:Budget and Finance Committee Meeting 10.01.21
DESCRIPTION:
URL:https://peakandearlylearning.helenaschools.org/event/budget-and-finance-committee-meeting-10-01-21/
LOCATION:May Butler Center\, 55 S Rodney Street\, Helena\, MT\, 59601\, United States
CATEGORIES:Board of Trustees Meeting,Budget and Finance Committee
ORGANIZER;CN="Board of Trustees":MAILTO:boardoftrustees@helenaschools.org
END:VEVENT
BEGIN:VEVENT
DTSTART;TZID=America/Denver:20210928T110000
DTEND;TZID=America/Denver:20210928T120000
DTSTAMP:20260422T040309
CREATED:20210825T190924Z
LAST-MODIFIED:20210928T062216Z
UID:22799-1632826800-1632830400@peakandearlylearning.helenaschools.org
SUMMARY:Executive Committee Meeting 09.28.21
DESCRIPTION:
URL:https://peakandearlylearning.helenaschools.org/event/executive-committee-meeting-09-28-21/
LOCATION:May Butler Center\, 55 S Rodney Street\, Helena\, MT\, 59601\, United States
CATEGORIES:Board of Trustees Meeting,Executive Session
ORGANIZER;CN="Board of Trustees":MAILTO:boardoftrustees@helenaschools.org
END:VEVENT
BEGIN:VEVENT
DTSTART;TZID=America/Denver:20210915T120000
DTEND;TZID=America/Denver:20210915T130000
DTSTAMP:20260422T040309
CREATED:20210820T171800Z
LAST-MODIFIED:20210915T020904Z
UID:22789-1631707200-1631710800@peakandearlylearning.helenaschools.org
SUMMARY:Facilities & Maintenance Committee Meeting 9.15.21
DESCRIPTION:
URL:https://peakandearlylearning.helenaschools.org/event/facilities-maintenance-committee-meeting-9-13-21/
LOCATION:May Butler Center\, 55 S Rodney Street\, Helena\, MT\, 59601\, United States
CATEGORIES:Board of Trustees Meeting,Facilities and Maintenance Committee
ORGANIZER;CN="Board of Trustees":MAILTO:boardoftrustees@helenaschools.org
END:VEVENT
BEGIN:VEVENT
DTSTART;TZID=America/Denver:20210914T110000
DTEND;TZID=America/Denver:20210914T120000
DTSTAMP:20260422T040309
CREATED:20210820T171801Z
LAST-MODIFIED:20210914T011049Z
UID:22790-1631617200-1631620800@peakandearlylearning.helenaschools.org
SUMMARY:Executive Committee Meeting 09.14.21
DESCRIPTION:
URL:https://peakandearlylearning.helenaschools.org/event/executive-committee-meeting/
LOCATION:May Butler Center\, 55 S Rodney Street\, Helena\, MT\, 59601\, United States
CATEGORIES:Board of Trustees Meeting,Executive Session
ORGANIZER;CN="Board of Trustees":MAILTO:boardoftrustees@helenaschools.org
END:VEVENT
BEGIN:VEVENT
DTSTART;TZID=America/Denver:20210910T120000
DTEND;TZID=America/Denver:20210910T130000
DTSTAMP:20260422T040309
CREATED:20210819T154328Z
LAST-MODIFIED:20210910T004723Z
UID:22776-1631275200-1631278800@peakandearlylearning.helenaschools.org
SUMMARY:Budget & Finance Committee Meeting 09.10.21
DESCRIPTION:
URL:https://peakandearlylearning.helenaschools.org/event/budget-finance-committee-meeting-09-10-21/
LOCATION:May Butler Center\, 55 S Rodney Street\, Helena\, MT\, 59601\, United States
CATEGORIES:Board of Trustees Meeting,Budget and Finance Committee
ORGANIZER;CN="Board of Trustees":MAILTO:boardoftrustees@helenaschools.org
END:VEVENT
BEGIN:VEVENT
DTSTART;TZID=America/Denver:20210907T120000
DTEND;TZID=America/Denver:20210907T130000
DTSTAMP:20260422T040309
CREATED:20210819T154328Z
LAST-MODIFIED:20210906T233716Z
UID:22775-1631016000-1631019600@peakandearlylearning.helenaschools.org
SUMMARY:Policy Committee Meeting 09.07.21
DESCRIPTION:
URL:https://peakandearlylearning.helenaschools.org/event/policy-committee-meeting-09-07-21/
LOCATION:May Butler Center\, 55 S Rodney Street\, Helena\, MT\, 59601\, United States
CATEGORIES:Board of Trustees Meeting,Policy Committee
ORGANIZER;CN="Board of Trustees":MAILTO:boardoftrustees@helenaschools.org
END:VEVENT
BEGIN:VEVENT
DTSTART;TZID=America/Denver:20210901T120000
DTEND;TZID=America/Denver:20210901T130000
DTSTAMP:20260422T040309
CREATED:20210819T154328Z
LAST-MODIFIED:20210901T220206Z
UID:22774-1630497600-1630501200@peakandearlylearning.helenaschools.org
SUMMARY:Teaching & Learning Committee Meeting 09.01.21
DESCRIPTION:
URL:https://peakandearlylearning.helenaschools.org/event/teaching-learning-committee-meeting-09-01-21/
LOCATION:May Butler Center\, 55 S Rodney Street\, Helena\, MT\, 59601\, United States
CATEGORIES:Board of Trustees Meeting,Teaching and Learning Committee
ORGANIZER;CN="Board of Trustees":MAILTO:boardoftrustees@helenaschools.org
END:VEVENT
BEGIN:VEVENT
DTSTART;TZID=America/Denver:20210810T110000
DTEND;TZID=America/Denver:20210810T120000
DTSTAMP:20260422T040309
CREATED:20210720T070349Z
LAST-MODIFIED:20210810T123657Z
UID:22743-1628593200-1628596800@peakandearlylearning.helenaschools.org
SUMMARY:BOARD OF TRUSTEES EXECUTIVE COMMITTEE MEETING-08.10.2021
DESCRIPTION:
URL:https://peakandearlylearning.helenaschools.org/event/board-of-trustees-executive-committee-meeting-08-10-2021/
LOCATION:May Butler Center\, 55 S Rodney Street\, Helena\, MT\, 59601\, United States
CATEGORIES:Board of Trustees Meeting,Executive Session
ORGANIZER;CN="Board of Trustees":MAILTO:boardoftrustees@helenaschools.org
END:VEVENT
BEGIN:VEVENT
DTSTART;TZID=America/Denver:20210806T120000
DTEND;TZID=America/Denver:20210806T130000
DTSTAMP:20260422T040309
CREATED:20210720T070349Z
LAST-MODIFIED:20210806T120523Z
UID:22742-1628251200-1628254800@peakandearlylearning.helenaschools.org
SUMMARY:BOARD OF TRUSTEES BUDGET & FINANCE COMMITTEE MEETING-08.06.21
DESCRIPTION:
URL:https://peakandearlylearning.helenaschools.org/event/board-of-trustees-budget-finance-committee-meeting-08-06-21/
LOCATION:May Butler Center\, 55 S Rodney Street\, Helena\, MT\, 59601\, United States
CATEGORIES:Board of Trustees Meeting,Budget and Finance Committee
ORGANIZER;CN="Board of Trustees":MAILTO:boardoftrustees@helenaschools.org
END:VEVENT
BEGIN:VEVENT
DTSTART;TZID=America/Denver:20210802T120000
DTEND;TZID=America/Denver:20210802T130000
DTSTAMP:20260422T040309
CREATED:20210720T070348Z
LAST-MODIFIED:20210802T104603Z
UID:22740-1627905600-1627909200@peakandearlylearning.helenaschools.org
SUMMARY:BOARD OF TRUSTEES FACILITIES & MAINTENANCE COMMITTEE MEETING 08.02.21
DESCRIPTION:
URL:https://peakandearlylearning.helenaschools.org/event/board-of-trustees-facilities-maintenance-committee-meeting-08-02-21/
LOCATION:May Butler Center\, 55 S Rodney Street\, Helena\, MT\, 59601\, United States
CATEGORIES:Board of Trustees Meeting,Facilities and Maintenance Committee
ORGANIZER;CN="Board of Trustees":MAILTO:boardoftrustees@helenaschools.org
END:VEVENT
BEGIN:VEVENT
DTSTART;TZID=America/Denver:20210621T133000
DTEND;TZID=America/Denver:20210621T143000
DTSTAMP:20260422T040309
CREATED:20210620T204138Z
LAST-MODIFIED:20210621T204111Z
UID:22708-1624282200-1624285800@peakandearlylearning.helenaschools.org
SUMMARY:Board of Trustees Facilities Committee Meeting – 06.21.21
DESCRIPTION:06.21.2021 Facilities-Maintenance-Committee-Meeting Agenda \n05.12.2021 Facilities & Maintenance Meeting Minutes
URL:https://peakandearlylearning.helenaschools.org/event/board-of-trustees-facilities-committee-meeting-06-21-21/
LOCATION:May Butler Center\, 55 S Rodney Street\, Helena\, MT\, 59601\, United States
CATEGORIES:Board of Trustees Meeting,District Schedule,Facilities and Maintenance Committee
ORGANIZER;CN="Board of Trustees":MAILTO:boardoftrustees@helenaschools.org
END:VEVENT
BEGIN:VEVENT
DTSTART;TZID=America/Denver:20210512T120000
DTEND;TZID=America/Denver:20210512T130000
DTSTAMP:20260422T040309
CREATED:20210504T124731Z
LAST-MODIFIED:20210512T145331Z
UID:22641-1620820800-1620824400@peakandearlylearning.helenaschools.org
SUMMARY:Board of Trustees Facilities & Maintenance Committee Meeting – 05.12.2021
DESCRIPTION:  \n 
URL:https://peakandearlylearning.helenaschools.org/event/board-of-trustees-facilities-maintenance-committee-meeting-05-06-2021/
LOCATION:May Butler Center\, 55 S Rodney Street\, Helena\, MT\, 59601\, United States
CATEGORIES:Board of Trustees Meeting,District Schedule,Facilities and Maintenance Committee
ORGANIZER;CN="Board of Trustees":MAILTO:boardoftrustees@helenaschools.org
END:VEVENT
BEGIN:VEVENT
DTSTART;TZID=America/Denver:20210511T110000
DTEND;TZID=America/Denver:20210511T120000
DTSTAMP:20260422T040309
CREATED:20210508T133034Z
LAST-MODIFIED:20210511T141259Z
UID:22655-1620730800-1620734400@peakandearlylearning.helenaschools.org
SUMMARY:Board of Trustees Executive Committee Meeting – 05.11.2021
DESCRIPTION:
URL:https://peakandearlylearning.helenaschools.org/event/board-of-trustees-executive-committee-meeting-05-11-2021/
LOCATION:May Butler Center\, 55 S Rodney Street\, Helena\, MT\, 59601\, United States
CATEGORIES:Board of Trustees Meeting,District Schedule,Executive Session
ORGANIZER;CN="Board of Trustees":MAILTO:boardoftrustees@helenaschools.org
END:VEVENT
BEGIN:VEVENT
DTSTART;TZID=America/Denver:20210506T154500
DTEND;TZID=America/Denver:20210506T170000
DTSTAMP:20260422T040309
CREATED:20210505T124842Z
LAST-MODIFIED:20210506T130651Z
UID:22643-1620315900-1620320400@peakandearlylearning.helenaschools.org
SUMMARY:Board of Trustees Health & Benefits Committee Meeting – 05.06.2021
DESCRIPTION:
URL:https://peakandearlylearning.helenaschools.org/event/board-of-trustees-health-benefits-committee-meeting-05-06-2021/
LOCATION:May Butler Center\, 55 S Rodney Street\, Helena\, MT\, 59601\, United States
CATEGORIES:Board of Trustees Meeting,District Schedule,Health & Benefits Committee Meetings
ORGANIZER;CN="Board of Trustees":MAILTO:boardoftrustees@helenaschools.org
END:VEVENT
BEGIN:VEVENT
DTSTART;TZID=America/Denver:20210505T120000
DTEND;TZID=America/Denver:20210505T130000
DTSTAMP:20260422T040309
CREATED:20210504T124731Z
LAST-MODIFIED:20210505T124843Z
UID:22640-1620216000-1620219600@peakandearlylearning.helenaschools.org
SUMMARY:Board of Trustees Teaching & Learning Committee Meeting – 05.05.2021
DESCRIPTION:
URL:https://peakandearlylearning.helenaschools.org/event/board-of-trustees-teaching-learning-committee-meeting-05-05-2021/
LOCATION:May Butler Center\, 55 S Rodney Street\, Helena\, MT\, 59601\, United States
CATEGORIES:Board of Trustees Meeting,District Schedule,Teaching and Learning Committee
ORGANIZER;CN="Board of Trustees":MAILTO:boardoftrustees@helenaschools.org
END:VEVENT
BEGIN:VEVENT
DTSTART;TZID=America/Denver:20210504T120000
DTEND;TZID=America/Denver:20210504T130000
DTSTAMP:20260422T040309
CREATED:20210427T120349Z
LAST-MODIFIED:20210504T124732Z
UID:22625-1620129600-1620133200@peakandearlylearning.helenaschools.org
SUMMARY:Board of Trustees Policy Committee Meeting – 05.04.2021
DESCRIPTION:
URL:https://peakandearlylearning.helenaschools.org/event/board-of-trustees-policy-committee-meeting-05-04-2021/
LOCATION:May Butler Center\, 55 S Rodney Street\, Helena\, MT\, 59601\, United States
CATEGORIES:Board of Trustees Meeting,District Schedule,Policy Committee
ORGANIZER;CN="Board of Trustees":MAILTO:boardoftrustees@helenaschools.org
END:VEVENT
BEGIN:VEVENT
DTSTART;TZID=America/Denver:20210504T110000
DTEND;TZID=America/Denver:20210504T120000
DTSTAMP:20260422T040309
CREATED:20210427T120349Z
LAST-MODIFIED:20210430T124731Z
UID:22624-1620126000-1620129600@peakandearlylearning.helenaschools.org
SUMMARY:Board of Trustees Facilities and Maintenance Committee Meeting – 05.04.2021
DESCRIPTION:
URL:https://peakandearlylearning.helenaschools.org/event/board-of-trustees-facilities-and-maintenance-committee-meeting-05-04-2021/
LOCATION:May Butler Center\, 55 S Rodney Street\, Helena\, MT\, 59601\, United States
CATEGORIES:Board of Trustees Meeting,District Schedule,Facilities and Maintenance Committee
ORGANIZER;CN="Board of Trustees":MAILTO:boardoftrustees@helenaschools.org
END:VEVENT
BEGIN:VEVENT
DTSTART;TZID=America/Denver:20210427T110000
DTEND;TZID=America/Denver:20210427T120000
DTSTAMP:20260422T040309
CREATED:20210420T112913Z
LAST-MODIFIED:20210427T120350Z
UID:22608-1619521200-1619524800@peakandearlylearning.helenaschools.org
SUMMARY:Board of Trustees Executive Committee Meeting – 04.27.2021
DESCRIPTION:
URL:https://peakandearlylearning.helenaschools.org/event/board-of-trustees-executive-committee-meeting-04-27-2021/
LOCATION:May Butler Center\, 55 S Rodney Street\, Helena\, MT\, 59601\, United States
CATEGORIES:Board of Trustees Meeting,District Schedule,Executive Session
ORGANIZER;CN="Board of Trustees":MAILTO:boardoftrustees@helenaschools.org
END:VEVENT
BEGIN:VEVENT
DTSTART;TZID=America/Denver:20210413T110000
DTEND;TZID=America/Denver:20210413T120000
DTSTAMP:20260422T040309
CREATED:20210407T091603Z
LAST-MODIFIED:20210413T094503Z
UID:22583-1618311600-1618315200@peakandearlylearning.helenaschools.org
SUMMARY:Board of Trustees Executive Committee Meeting – 04.13.2021
DESCRIPTION:
URL:https://peakandearlylearning.helenaschools.org/event/board-of-trustees-executive-committee-meeting-04-13-2021/
LOCATION:May Butler Center\, 55 S Rodney Street\, Helena\, MT\, 59601\, United States
CATEGORIES:Board of Trustees Meeting,District Schedule,Executive Session
ORGANIZER;CN="Board of Trustees":MAILTO:boardoftrustees@helenaschools.org
END:VEVENT
BEGIN:VEVENT
DTSTART;TZID=America/Denver:20210406T120000
DTEND;TZID=America/Denver:20210406T130000
DTSTAMP:20260422T040309
CREATED:20210403T081532Z
LAST-MODIFIED:20210406T091212Z
UID:22578-1617710400-1617714000@peakandearlylearning.helenaschools.org
SUMMARY:Board of Trustees Policy Committee Meeting – 04.06.2021
DESCRIPTION:
URL:https://peakandearlylearning.helenaschools.org/event/board-of-trustees-policy-committee-meeting-04-06-2021/
LOCATION:May Butler Center\, 55 S Rodney Street\, Helena\, MT\, 59601\, United States
CATEGORIES:Board of Trustees Meeting,District Schedule,Policy Committee
ORGANIZER;CN="Board of Trustees":MAILTO:boardoftrustees@helenaschools.org
END:VEVENT
END:VCALENDAR